BEGIN:VCALENDAR
VERSION:2.0
PRODID:-//Stayner Camp - ECPv6.15.20//NONSGML v1.0//EN
CALSCALE:GREGORIAN
METHOD:PUBLISH
X-ORIGINAL-URL:https://stayner.ecmcamps.ca
X-WR-CALDESC:Events for Stayner Camp
REFRESH-INTERVAL;VALUE=DURATION:PT1H
X-Robots-Tag:noindex
X-PUBLISHED-TTL:PT1H
BEGIN:VTIMEZONE
TZID:America/Toronto
BEGIN:DAYLIGHT
TZOFFSETFROM:-0500
TZOFFSETTO:-0400
TZNAME:EDT
DTSTART:20250309T070000
END:DAYLIGHT
BEGIN:STANDARD
TZOFFSETFROM:-0400
TZOFFSETTO:-0500
TZNAME:EST
DTSTART:20251102T060000
END:STANDARD
BEGIN:DAYLIGHT
TZOFFSETFROM:-0500
TZOFFSETTO:-0400
TZNAME:EDT
DTSTART:20260308T070000
END:DAYLIGHT
BEGIN:STANDARD
TZOFFSETFROM:-0400
TZOFFSETTO:-0500
TZNAME:EST
DTSTART:20261101T060000
END:STANDARD
BEGIN:DAYLIGHT
TZOFFSETFROM:-0500
TZOFFSETTO:-0400
TZNAME:EDT
DTSTART:20270314T070000
END:DAYLIGHT
BEGIN:STANDARD
TZOFFSETFROM:-0400
TZOFFSETTO:-0500
TZNAME:EST
DTSTART:20271107T060000
END:STANDARD
END:VTIMEZONE
BEGIN:VEVENT
DTSTART;VALUE=DATE:20260706
DTEND;VALUE=DATE:20260711
DTSTAMP:20260423T152856
CREATED:20260224T193620Z
LAST-MODIFIED:20260224T193643Z
UID:14538-1783296000-1783727999@stayner.ecmcamps.ca
SUMMARY:TOP: Sports Camp
DESCRIPTION:Sports Day Camp at Trail of the Pines is an action-packed experience at Stayner Camp where kids dive into a week of energetic play\, teamwork\, and skill-building. Campers will enjoy a full lineup of activities—including soccer\, basketball\, gaga ball\, and hockey—led in a fun\, encouraging environment that helps every child grow in both confidence and character. Most importantly\, each child will learn about the life-changing love of Jesus as we explore God’s truths under the Pines\, making this sports-focused camp a meaningful blend of athletic excitement and spiritual growth.
URL:https://stayner.ecmcamps.ca/event/trail-of-the-pines-sports-camp-2/
LOCATION:Stayner Camp\, 240 Scott St.\, Stayner\, Ontario\, L0M 1S0\, Canada
CATEGORIES:Youth Camps
ORGANIZER;CN="Stayner Camp":MAILTO:stayner@ecmcamps.ca
END:VEVENT
BEGIN:VEVENT
DTSTART;VALUE=DATE:20260713
DTEND;VALUE=DATE:20260718
DTSTAMP:20260423T152856
CREATED:20260224T193746Z
LAST-MODIFIED:20260224T193800Z
UID:14541-1783900800-1784332799@stayner.ecmcamps.ca
SUMMARY:TOP: Creative Arts Camp
DESCRIPTION:Creative Arts Camp at Trail of the Pines is a vibrant and imaginative week at Stayner Camp where kids are invited to express themselves through painting\, sculpting\, drumming\, singing\, and more. In a supportive and joy-filled environment\, campers will discover new skills\, explore their creativity\, and build meaningful friendships as they create and perform under the towering pines. Most importantly\, each child will learn about the life-changing love of Jesus as we explore God’s truths under the Pines\, making this camp a beautiful blend of artistic exploration and spiritual growth.
URL:https://stayner.ecmcamps.ca/event/top-creative-arts-camp/
LOCATION:Stayner Camp\, 240 Scott St.\, Stayner\, Ontario\, L0M 1S0\, Canada
CATEGORIES:Youth Camps
ORGANIZER;CN="Stayner Camp":MAILTO:stayner@ecmcamps.ca
END:VEVENT
BEGIN:VEVENT
DTSTART;VALUE=DATE:20260817
DTEND;VALUE=DATE:20260922
DTSTAMP:20260423T152856
CREATED:20260224T193932Z
LAST-MODIFIED:20260224T193932Z
UID:14543-1786924800-1790035199@stayner.ecmcamps.ca
SUMMARY:TOP: Classic Camp
DESCRIPTION:Classic Camp at Trail of the Pines is a timeless\, adventure-filled week at Stayner Camp where kids enjoy the best of traditional camp fun. Campers will play high-energy games\, explore nature\, complete exciting scavenger hunts\, and even build with wood as they develop hands-on skills and confidence. Surrounded by the beauty of the outdoors and supported by caring leaders\, they’ll form lasting friendships and unforgettable memories. Most importantly\, each child will learn about the life-changing love of Jesus as we explore God’s truths under the Pines\, making Classic Camp a meaningful blend of creativity\, discovery\, and spiritual growth.
URL:https://stayner.ecmcamps.ca/event/top-classic-camp/
LOCATION:Stayner Camp\, 240 Scott St.\, Stayner\, Ontario\, L0M 1S0\, Canada
CATEGORIES:Youth Camps
ORGANIZER;CN="Stayner Camp":MAILTO:stayner@ecmcamps.ca
END:VEVENT
END:VCALENDAR