BEGIN:VCALENDAR
VERSION:2.0
PRODID:-//Stayner Camp - ECPv6.15.20//NONSGML v1.0//EN
CALSCALE:GREGORIAN
METHOD:PUBLISH
X-WR-CALNAME:Stayner Camp
X-ORIGINAL-URL:https://stayner.ecmcamps.ca
X-WR-CALDESC:Events for Stayner Camp
REFRESH-INTERVAL;VALUE=DURATION:PT1H
X-Robots-Tag:noindex
X-PUBLISHED-TTL:PT1H
BEGIN:VTIMEZONE
TZID:America/Toronto
BEGIN:DAYLIGHT
TZOFFSETFROM:-0500
TZOFFSETTO:-0400
TZNAME:EDT
DTSTART:20220313T070000
END:DAYLIGHT
BEGIN:STANDARD
TZOFFSETFROM:-0400
TZOFFSETTO:-0500
TZNAME:EST
DTSTART:20221106T060000
END:STANDARD
BEGIN:DAYLIGHT
TZOFFSETFROM:-0500
TZOFFSETTO:-0400
TZNAME:EDT
DTSTART:20230312T070000
END:DAYLIGHT
BEGIN:STANDARD
TZOFFSETFROM:-0400
TZOFFSETTO:-0500
TZNAME:EST
DTSTART:20231105T060000
END:STANDARD
BEGIN:DAYLIGHT
TZOFFSETFROM:-0500
TZOFFSETTO:-0400
TZNAME:EDT
DTSTART:20240310T070000
END:DAYLIGHT
BEGIN:STANDARD
TZOFFSETFROM:-0400
TZOFFSETTO:-0500
TZNAME:EST
DTSTART:20241103T060000
END:STANDARD
BEGIN:DAYLIGHT
TZOFFSETFROM:-0500
TZOFFSETTO:-0400
TZNAME:EDT
DTSTART:20250309T070000
END:DAYLIGHT
BEGIN:STANDARD
TZOFFSETFROM:-0400
TZOFFSETTO:-0500
TZNAME:EST
DTSTART:20251102T060000
END:STANDARD
BEGIN:DAYLIGHT
TZOFFSETFROM:-0500
TZOFFSETTO:-0400
TZNAME:EDT
DTSTART:20260308T070000
END:DAYLIGHT
BEGIN:STANDARD
TZOFFSETFROM:-0400
TZOFFSETTO:-0500
TZNAME:EST
DTSTART:20261101T060000
END:STANDARD
BEGIN:DAYLIGHT
TZOFFSETFROM:-0500
TZOFFSETTO:-0400
TZNAME:EDT
DTSTART:20270314T070000
END:DAYLIGHT
BEGIN:STANDARD
TZOFFSETFROM:-0400
TZOFFSETTO:-0500
TZNAME:EST
DTSTART:20271107T060000
END:STANDARD
END:VTIMEZONE
BEGIN:VEVENT
DTSTART;VALUE=DATE:20260316
DTEND;VALUE=DATE:20260321
DTSTAMP:20260421T090519
CREATED:20260224T193500Z
LAST-MODIFIED:20260224T193500Z
UID:14536-1773619200-1774051199@stayner.ecmcamps.ca
SUMMARY:March Break Camp
DESCRIPTION:March Break Day Camp at Trail of the Pines is a fun-filled March Break adventure at Stayner Camp where children enjoy exciting activities\, creative challenges\, and outdoor exploration beneath the towering pines. Each day is designed to help campers grow in confidence\, friendship\, and faith as they engage in hands-on learning\, meaningful connections\, and energetic play. Most importantly\, each child will learn about the life-changing love of Jesus as we explore God’s truths under the Pines\, making this a memorable and spiritually enriching experience they’ll carry with them long after camp ends.
URL:https://stayner.ecmcamps.ca/event/march-break-camp/
LOCATION:Stayner Camp\, 240 Scott St.\, Stayner\, Ontario\, L0M 1S0\, Canada
CATEGORIES:Youth Camps
ORGANIZER;CN="Stayner Camp":MAILTO:stayner@ecmcamps.ca
END:VEVENT
BEGIN:VEVENT
DTSTART;VALUE=DATE:20250818
DTEND;VALUE=DATE:20250823
DTSTAMP:20260421T090519
CREATED:20250724T041636Z
LAST-MODIFIED:20250724T041636Z
UID:13720-1755475200-1755907199@stayner.ecmcamps.ca
SUMMARY:Trail of the Pines Classic Day Camp
DESCRIPTION:Join us for a week filled with fun and laughter.  Young minds are allowed to learn through STEM activities\, develop gross motor skills through wide games\, build lasting friendships with fellow campers\, and experience what “camp” means.  We might even throw in a little camp spice (dirt) to make everything interesting.
URL:https://stayner.ecmcamps.ca/event/trail-of-the-pines-classic-day-camp/
LOCATION:Stayner Camp\, 240 Scott St.\, Stayner\, Ontario\, L0M 1S0\, Canada
CATEGORIES:Youth Camps
ORGANIZER;CN="Stayner Camp":MAILTO:stayner@ecmcamps.ca
END:VEVENT
BEGIN:VEVENT
DTSTART;TZID=America/Toronto:20240920T180000
DTEND;TZID=America/Toronto:20240922T130000
DTSTAMP:20260421T090519
CREATED:20231226T163255Z
LAST-MODIFIED:20231226T171857Z
UID:8322-1726855200-1727010000@stayner.ecmcamps.ca
SUMMARY:REBOOT Retreat
DESCRIPTION:
URL:https://stayner.ecmcamps.ca/event/reboot-retreat/
LOCATION:Stayner Camp\, 240 Scott St.\, Stayner\, Ontario\, L0M 1S0\, Canada
CATEGORIES:Retreats,Youth Camps
ORGANIZER;CN="Stayner Camp":MAILTO:stayner@ecmcamps.ca
END:VEVENT
BEGIN:VEVENT
DTSTART;VALUE=DATE:20240819
DTEND;VALUE=DATE:20240824
DTSTAMP:20260421T090519
CREATED:20231226T164041Z
LAST-MODIFIED:20240609T214517Z
UID:8328-1724025600-1724457599@stayner.ecmcamps.ca
SUMMARY:Trail of the Pines Classic Day Camp
DESCRIPTION:We all love hearing and telling great stories.  This summer at Stayner Camp we will become Story Makers and Story Tellers as we learn about the story that is being written on all of our hearts. It’s a story of adventure and discovery. It’s a story of love and perseverance. And it’s a story that will take us places beyond anything we could ask or think.
URL:https://stayner.ecmcamps.ca/event/trail-of-the-pines-day-camp/
LOCATION:Stayner Camp\, 240 Scott St.\, Stayner\, Ontario\, L0M 1S0\, Canada
CATEGORIES:Youth Camps
ORGANIZER;CN="Stayner Camp":MAILTO:stayner@ecmcamps.ca
END:VEVENT
BEGIN:VEVENT
DTSTART;VALUE=DATE:20240715
DTEND;VALUE=DATE:20240720
DTSTAMP:20260421T090519
CREATED:20231226T163851Z
LAST-MODIFIED:20240609T214302Z
UID:8326-1721001600-1721433599@stayner.ecmcamps.ca
SUMMARY:Trail of the Pines Creative Arts Week
DESCRIPTION:Introducing Stephen and Tricia Preston of Funtastical Studios\, bringing you our Creative Arts Camp experience!  This is a week of art\, creating and discovering more about God\, the ultimate creator.  In this arts-focused week\, we will be launching our campers into everything creative!  We will explore painting\, drawing\, music\, nature\, sculpture\, stories and more as we get your creative juices going in this fun-filled week!  You will be encouraged to experiment\, discover\, learn\, have LOTS of FUN\, and of course\, we will also learn about the greatest artist of all\, God our creator.
URL:https://stayner.ecmcamps.ca/event/trail-of-the-pines-creative-arts-week/
LOCATION:Stayner Camp\, 240 Scott St.\, Stayner\, Ontario\, L0M 1S0\, Canada
CATEGORIES:Youth Camps
ORGANIZER;CN="Stayner Camp":MAILTO:stayner@ecmcamps.ca
END:VEVENT
BEGIN:VEVENT
DTSTART;VALUE=DATE:20240708
DTEND;VALUE=DATE:20240713
DTSTAMP:20260421T090519
CREATED:20231226T163708Z
LAST-MODIFIED:20240609T214205Z
UID:8324-1720396800-1720828799@stayner.ecmcamps.ca
SUMMARY:Trail of the Pines Sports Week
DESCRIPTION:At SU Sports Camps\, the coach is Jesus and the challenge is to follow him!  Start getting excited!  The week will be packed with skill development\, games\, scrimmages\, and awards\, as the campers rotate through 3 sports – soccer\, ball hockey\, and a daily mystery sport! This will be a recreational sports camp\, meaning the emphasis will be on having a blast while also growing in confidence and making new friends. Best of all\, we will be looking at the Greatest Coach of All time who invites you to be His friend; that is…Jesus!  This will be an unforgettable time and we can’t wait to see you!
URL:https://stayner.ecmcamps.ca/event/trail-of-the-pines-sports-week/
LOCATION:Stayner Camp\, 240 Scott St.\, Stayner\, Ontario\, L0M 1S0\, Canada
CATEGORIES:Youth Camps
ORGANIZER;CN="Stayner Camp":MAILTO:stayner@ecmcamps.ca
END:VEVENT
BEGIN:VEVENT
DTSTART;TZID=America/Toronto:20230828T083000
DTEND;TZID=America/Toronto:20230901T160000
DTSTAMP:20260421T090519
CREATED:20230703T195834Z
LAST-MODIFIED:20230703T195834Z
UID:5569-1693211400-1693584000@stayner.ecmcamps.ca
SUMMARY:Trail of the Pines Day Camp: The Great Race - Week 2
DESCRIPTION:
URL:https://stayner.ecmcamps.ca/event/trail-of-the-pines-day-camp-the-great-race-week-2/
LOCATION:Stayner Camp\, 240 Scott St.\, Stayner\, Ontario\, L0M 1S0\, Canada
CATEGORIES:Youth Camps
ORGANIZER;CN="Stayner Camp":MAILTO:stayner@ecmcamps.ca
END:VEVENT
BEGIN:VEVENT
DTSTART;TZID=America/Toronto:20230821T083000
DTEND;TZID=America/Toronto:20230825T160000
DTSTAMP:20260421T090519
CREATED:20230703T195724Z
LAST-MODIFIED:20230703T200050Z
UID:5565-1692606600-1692979200@stayner.ecmcamps.ca
SUMMARY:Trail of the Pines Day Camp: The Great Race - Week 1
DESCRIPTION:
URL:https://stayner.ecmcamps.ca/event/trail-of-the-pines-day-camp-the-great-race-week-1/
LOCATION:Stayner Camp\, 240 Scott St.\, Stayner\, Ontario\, L0M 1S0\, Canada
CATEGORIES:Youth Camps
ORGANIZER;CN="Stayner Camp":MAILTO:stayner@ecmcamps.ca
END:VEVENT
BEGIN:VEVENT
DTSTART;TZID=America/Toronto:20230710T083000
DTEND;TZID=America/Toronto:20230714T160000
DTSTAMP:20260421T090519
CREATED:20230703T195526Z
LAST-MODIFIED:20230703T200118Z
UID:5562-1688977800-1689350400@stayner.ecmcamps.ca
SUMMARY:Trail of the Pines Day Camp: Creative Arts Week
DESCRIPTION:
URL:https://stayner.ecmcamps.ca/event/trail-of-the-pines-creative-arts-camp/
LOCATION:Ontario
CATEGORIES:Youth Camps
ORGANIZER;CN="Stayner Camp":MAILTO:stayner@ecmcamps.ca
END:VEVENT
BEGIN:VEVENT
DTSTART;TZID=America/Toronto:20230703T083000
DTEND;TZID=America/Toronto:20230707T160000
DTSTAMP:20260421T090519
CREATED:20230703T195410Z
LAST-MODIFIED:20230703T200130Z
UID:5559-1688373000-1688745600@stayner.ecmcamps.ca
SUMMARY:Trail of the Pines Day Camp: Sports Week
DESCRIPTION:
URL:https://stayner.ecmcamps.ca/event/trail-of-the-pines-sports-camp/
LOCATION:Stayner Camp\, 240 Scott St.\, Stayner\, Ontario\, L0M 1S0\, Canada
CATEGORIES:Youth Camps
END:VEVENT
END:VCALENDAR